BEGIN:VCALENDAR
VERSION:2.0
PRODID:-//wp-events-plugin.com//7.2.3.1//EN
TZID:America/Denver
X-WR-TIMEZONE:America/Denver
BEGIN:VEVENT
UID:82@7x24rmc.org
DTSTART;TZID=America/Denver:20260611T080000
DTEND;TZID=America/Denver:20260611T100000
DTSTAMP:20260401T200857Z
URL:https://7x24rmc.org/events/2026-06-wimco-event/
SUMMARY:WiMCO Event
DESCRIPTION:Opportunities and Challenges in Energy created by AI Demand\n
ATTACH;FMTTYPE=image/jpeg:https://7x24rmc.org/wp-content/uploads/wimco-eve
 nt-logo.jpg
CATEGORIES:7x24 Exchange Rocky Mountain Chapter,WiMCO
END:VEVENT
BEGIN:VTIMEZONE
TZID:America/Denver
X-LIC-LOCATION:America/Denver
BEGIN:DAYLIGHT
DTSTART:20260308T030000
TZOFFSETFROM:-0700
TZOFFSETTO:-0600
TZNAME:MDT
END:DAYLIGHT
END:VTIMEZONE
END:VCALENDAR